BEGIN:VCALENDAR
VERSION:2.0
PRODID:-//wp-events-plugin.com//7.2.3.1//EN
TZID:Europe/London
X-WR-TIMEZONE:Europe/London
BEGIN:VEVENT
UID:1854@bvcc.org.uk
DTSTART;TZID=Europe/London:20260802T130000
DTEND;TZID=Europe/London:20260802T160000
DTSTAMP:20260302T195236Z
URL:https://bvcc.org.uk/events/search-events/coxes-lock-02-08-26/
SUMMARY:Coxes Lock (02/08/26)
DESCRIPTION:Booking Cut Off: 31/08/2026 at 5:00PM\n\nType: White Water Sess
 ion - Weir\n\nSuitability: confident on flat water and capsizing with a sp
 ray deck\n\nLocation/Venue: Coxes Lock\, Bourneside Road\, Addlestone\, KT
 15 2JX\nDescription:  \n\nCoxes Lock is a great place to experience movin
 g water for the first time or brush up on your skills. There is some gentl
 e moving water at the bottom if the Lock\, ideal for practicing breaking i
 n / out for the flow\, as well as a slide to paddle down and have a bit of
  fun.\n\nKit/Equipment Hire: You will require the following equipment for 
 this trip\, if you need to borrow any equipment then please let us know as
  soon as possible:\n\n	Boat\n	Paddle\n	Buoyancy Aid\n	Spray Deck\n	Kayak H
 elmet\n	Suitable paddling clothing for the conditions (e.g. a cag or drysu
 it\, etc.)\n\n\n
CATEGORIES:Sessions - White Water
END:VEVENT
BEGIN:VTIMEZONE
TZID:Europe/London
X-LIC-LOCATION:Europe/London
BEGIN:DAYLIGHT
DTSTART:20260329T020000
TZOFFSETFROM:+0000
TZOFFSETTO:+0100
TZNAME:BST
END:DAYLIGHT
END:VTIMEZONE
END:VCALENDAR